BEGIN:VCALENDAR
VERSION:2.0
PRODID:SchoolNow
CALSCALE:GREGORIAN
BEGIN:VEVENT
UID:0a88ad58-926a-11f0-810a-0a58a9feac02
DTSTAMP:20250915T192738Z
SUMMARY:CDD Board meeting - Sept. 2026
LOCATION:Holiday Inn Express North I-4 located at 4500 Lakeland Park Drive\
 , Lakeland\, Florida 33809
URL;VALUE=URI:https://www.leomascdd.org/calendar/8626005/cdd-board-meeting-
 sept-2026
DTSTART:20260921T160000Z
DTEND:20260921T170000Z
END:VEVENT
END:VCALENDAR
