BEGIN:VCALENDAR
VERSION:2.0
PRODID:SchoolNow
CALSCALE:GREGORIAN
BEGIN:VEVENT
UID:bb59467a-9269-11f0-aa82-02783b3868e5
DTSTAMP:20251210T224504Z
SUMMARY:CDD Board meeting - Dec. 2025
LOCATION:Holiday Inn Express North I-4 located at 4500 Lakeland Park Drive\
 , Lakeland\, Florida 33809
URL;VALUE=URI:https://www.leomascdd.org/calendar/8625996/cdd-board-meeting-
 dec-2025
DTSTART:20251215T170000Z
DTEND:20251215T180000Z
ATTACH;FILENAME=2025-12-15 Leomas Landing Agenda.pdf;FMTTYPE=application/pd
 f:https://campussuite-storage.s3.amazonaws.com/prod/1559063/a05e60de-803b-
 11eb-be7d-024896e0724b/3050409/d8fe7710-d619-11f0-a068-0a58a9feac02/file/2
 025-12-15 Leomas Landing Agenda.pdf
END:VEVENT
END:VCALENDAR
