BEGIN:VCALENDAR
VERSION:2.0
PRODID:SchoolNow
CALSCALE:GREGORIAN
BEGIN:VEVENT
UID:ae663342-9269-11f0-86b5-0affe9974651
DTSTAMP:20251111T025132Z
SUMMARY:CDD Board meeting - Nov. 2025
LOCATION:Holiday Inn Express North I-4 located at 4500 Lakeland Park Drive\
 , Lakeland\, Florida 33809
URL;VALUE=URI:https://www.leomascdd.org/calendar/8625995/cdd-board-meeting-
 nov-2025
DTSTART:20251117T170000Z
DTEND:20251117T180000Z
ATTACH;FILENAME=2025-11-17 Leomas Landing Agenda.pdf;FMTTYPE=application/pd
 f:https://campussuite-storage.s3.amazonaws.com/prod/1559063/a05e60de-803b-
 11eb-be7d-024896e0724b/3035611/16b83114-bea9-11f0-b492-0e56e2a97179/file/2
 025-11-17 Leomas Landing Agenda.pdf
END:VEVENT
END:VCALENDAR
