BEGIN:VCALENDAR
VERSION:2.0
PRODID:SchoolNow
CALSCALE:GREGORIAN
BEGIN:VEVENT
UID:a3d34596-9269-11f0-b18a-02dcb7a45abd
DTSTAMP:20251013T160448Z
SUMMARY:CDD Board meeting - Oct. 2025 (Canceled)
LOCATION:Holiday Inn Express North I-4 located at 4500 Lakeland Park Drive\
 , Lakeland\, Florida 33809
URL;VALUE=URI:https://www.leomascdd.org/calendar/8625994/cdd-board-meeting-
 oct-2025
DTSTART:20251020T160000Z
DTEND:20251020T170000Z
END:VEVENT
END:VCALENDAR
