BEGIN:VCALENDAR
VERSION:2.0
PRODID:SchoolNow
CALSCALE:GREGORIAN
BEGIN:VEVENT
UID:b806132c-dfef-11ef-9ce2-0affc7ed41fb
DTSTAMP:20250203T161919Z
SUMMARY:CDD Board Meeting- Feb. 2025
LOCATION:Holiday Inn Express North I-4 located at 4500 Lakeland Park Drive\
 , Lakeland\, Florida 33809
URL;VALUE=URI:https://www.leomascdd.org/calendar/7403885/cdd-special-meetin
 g
DTSTART:20250206T150000Z
DTEND:20250206T160000Z
ATTACH;FILENAME=2025-02-06 Leomas Landing Agenda.pdf;FMTTYPE=application/pd
 f:https://campussuite-storage.s3.amazonaws.com/prod/1559063/a05e60de-803b-
 11eb-be7d-024896e0724b/2909437/e0c3581a-dfef-11ef-a85c-0245d24e3e47/file/2
 025-02-06 Leomas Landing Agenda.pdf
END:VEVENT
END:VCALENDAR
