BEGIN:VCALENDAR
VERSION:2.0
PRODID:SchoolNow
CALSCALE:GREGORIAN
BEGIN:VEVENT
UID:a05bf130-8fde-11ef-814e-0a58a9feac02
DTSTAMP:20241111T210228Z
SUMMARY:Landowners' Election - Nov. 2024
LOCATION:Holiday Inn Express North I-4 located at 4500 Lakeland Park Drive\
 , Lakeland\, Florida 33809
URL;VALUE=URI:https://www.leomascdd.org/calendar/6871270/landowners-electio
 n-nov-2024
DTSTART:20241118T170000Z
DTEND:20241118T180000Z
ATTACH;FILENAME=2024-11-18 Leomas Landing LOE Agenda.pdf;FMTTYPE=applicatio
 n/pdf:https://campussuite-storage.s3.amazonaws.com/prod/1559063/a05e60de-8
 03b-11eb-be7d-024896e0724b/2877968/fabdc5d6-a06e-11ef-a2cd-023d3d295d83/fi
 le/2024-11-18 Leomas Landing LOE Agenda.pdf
ATTACH;FILENAME=Leomas Landing CDD - Ballots and Proxy - 2024-11-18.pdf;FMT
 TYPE=application/pdf:https://campussuite-storage.s3.amazonaws.com/prod/155
 9063/a05e60de-803b-11eb-be7d-024896e0724b/2874763/42697916-9b10-11ef-9574-
 0ebbf1049677/file/Leomas Landing CDD - Ballots and Proxy - 2024-11-18.pdf
END:VEVENT
END:VCALENDAR
