BEGIN:VCALENDAR
VERSION:2.0
PRODID:SchoolNow
CALSCALE:GREGORIAN
BEGIN:VEVENT
UID:1420f546-6976-11ef-85c1-0e598363e4bb
DTSTAMP:20250909T175531Z
SUMMARY:CDD Board meeting - Sept. 2025  (Canceled)
LOCATION:Holiday Inn Express North I-4 located at 4500 Lakeland Park Drive\
 , Lakeland\, Florida 33809
URL;VALUE=URI:https://www.leomascdd.org/calendar/6510257/cdd-board-meeting-
 sept-2025
DTSTART:20250915T160000Z
DTEND:20250915T170000Z
ATTACH;FILENAME=2025-09-15 Leomas Landing Agenda.pdf;FMTTYPE=application/pd
 f:https://campussuite-storage.s3.amazonaws.com/prod/1559063/a05e60de-803b-
 11eb-be7d-024896e0724b/3004714/b86fe56e-8cff-11f0-8447-0a58a9feac02/file/2
 025-09-15 Leomas Landing Agenda.pdf
END:VEVENT
END:VCALENDAR
