BEGIN:VCALENDAR
VERSION:2.0
PRODID:SchoolNow
CALSCALE:GREGORIAN
BEGIN:VEVENT
UID:05c46532-6976-11ef-96c0-0a58a9feac02
DTSTAMP:20250812T013016Z
SUMMARY:CDD Board meeting - Aug. 2025
LOCATION:Holiday Inn Express North I-4 located at 4500 Lakeland Park Drive\
 , Lakeland\, Florida 33809
URL;VALUE=URI:https://www.leomascdd.org/calendar/6510256/cdd-board-meeting-
 aug-2025
DTSTART:20250818T160000Z
DTEND:20250818T170000Z
ATTACH;FILENAME=2025-08-18 Leomas Landing Agenda.pdf;FMTTYPE=application/pd
 f:https://campussuite-storage.s3.amazonaws.com/prod/1559063/a05e60de-803b-
 11eb-be7d-024896e0724b/2991212/b57b7392-7700-11f0-a7f6-0a58a9feac02/file/2
 025-08-18 Leomas Landing Agenda.pdf
END:VEVENT
END:VCALENDAR
