BEGIN:VCALENDAR
VERSION:2.0
PRODID:SchoolNow
CALSCALE:GREGORIAN
BEGIN:VEVENT
UID:fcd18194-6975-11ef-b805-0a58a9feac02
DTSTAMP:20250715T133607Z
SUMMARY:CDD Board meeting - Jul. 2025 (Canceled)
LOCATION:Holiday Inn Express North I-4 located at 4500 Lakeland Park Drive\
 , Lakeland\, Florida 33809
URL;VALUE=URI:https://www.leomascdd.org/calendar/6510255/cdd-board-meeting-
 jul-2025
DTSTART:20250721T160000Z
DTEND:20250721T170000Z
ATTACH;FILENAME=2025-07-21 Leomas Landing Agenda.pdf;FMTTYPE=application/pd
 f:https://campussuite-storage.s3.amazonaws.com/prod/1559063/a05e60de-803b-
 11eb-be7d-024896e0724b/2981679/f29ed45e-6110-11f0-8e46-0e59f692aa7b/file/2
 025-07-21 Leomas Landing Agenda.pdf
END:VEVENT
END:VCALENDAR
