BEGIN:VCALENDAR
VERSION:2.0
PRODID:SchoolNow
CALSCALE:GREGORIAN
BEGIN:VEVENT
UID:f2a0b1cc-6975-11ef-9bf3-0e2e5f6d3f31
DTSTAMP:20250609T213216Z
SUMMARY:CDD Board meeting - Jun. 2025
LOCATION:Holiday Inn Express North I-4 located at 4500 Lakeland Park Drive\
 , Lakeland\, Florida 33809
URL;VALUE=URI:https://www.leomascdd.org/calendar/6510254/cdd-board-meeting-
 jun-2025
DTSTART:20250616T160000Z
DTEND:20250616T170000Z
ATTACH;FILENAME=2025-06-16 Leomas Landing Agenda.pdf;FMTTYPE=application/pd
 f:https://campussuite-storage.s3.amazonaws.com/prod/1559063/a05e60de-803b-
 11eb-be7d-024896e0724b/2966165/54d5e5d6-4578-11f0-876f-0afff4890157/file/2
 025-06-16 Leomas Landing Agenda.pdf
END:VEVENT
END:VCALENDAR
