BEGIN:VCALENDAR
VERSION:2.0
PRODID:SchoolNow
CALSCALE:GREGORIAN
BEGIN:VEVENT
UID:e6f654da-6975-11ef-8dbc-02dea9ddefb1
DTSTAMP:20250512T222508Z
SUMMARY:CDD Board meeting - May 2025
LOCATION:Holiday Inn Express North I-4 located at 4500 Lakeland Park Drive\
 , Lakeland\, Florida 33809
URL;VALUE=URI:https://www.leomascdd.org/calendar/6510253/cdd-board-meeting-
 may-2025
DTSTART:20250519T160000Z
DTEND:20250519T170000Z
ATTACH;FILENAME=2025-05-19 Leomas Landing Agenda.pdf;FMTTYPE=application/pd
 f:https://campussuite-storage.s3.amazonaws.com/prod/1559063/a05e60de-803b-
 11eb-be7d-024896e0724b/2952940/ed75aeca-2f7f-11f0-8cfb-023f77d25ced/file/2
 025-05-19 Leomas Landing Agenda.pdf
END:VEVENT
END:VCALENDAR
