BEGIN:VCALENDAR
VERSION:2.0
PRODID:SchoolNow
CALSCALE:GREGORIAN
BEGIN:VEVENT
UID:d4b758b4-6975-11ef-88b1-0290f6182f23
DTSTAMP:20250314T181331Z
SUMMARY:CDD Board meeting - Mar. 2025 (Canceled)
LOCATION:Holiday Inn Express North I-4 located at 4500 Lakeland Park Drive\
 , Lakeland\, Florida 33809
URL;VALUE=URI:https://www.leomascdd.org/calendar/6510251/cdd-board-meeting-
 mar-2025
DTSTART:20250317T160000Z
DTEND:20250317T170000Z
ATTACH;FILENAME=2025-03-17 Leomas Landing Agenda.pdf;FMTTYPE=application/pd
 f:https://campussuite-storage.s3.amazonaws.com/prod/1559063/a05e60de-803b-
 11eb-be7d-024896e0724b/2925165/69e3d052-fe18-11ef-bff6-0a58a9feac02/file/2
 025-03-17 Leomas Landing Agenda.pdf
END:VEVENT
END:VCALENDAR
