BEGIN:VCALENDAR
VERSION:2.0
PRODID:SchoolNow
CALSCALE:GREGORIAN
BEGIN:VEVENT
UID:cac1d5c8-6975-11ef-9467-02dea9ddefb1
DTSTAMP:20250212T193122Z
SUMMARY:CDD Board meeting - Feb. 2025 (Canceled)
LOCATION:Holiday Inn Express North I-4 located at 4500 Lakeland Park Drive\
 , Lakeland\, Florida 33809
URL;VALUE=URI:https://www.leomascdd.org/calendar/6510250/cdd-board-meeting-
 feb-2025
DTSTART:20250217T170000Z
DTEND:20250217T180000Z
ATTACH;FILENAME=2025-02-17 Leomas Landing Agenda.pdf;FMTTYPE=application/pd
 f:https://campussuite-storage.s3.amazonaws.com/prod/1559063/a05e60de-803b-
 11eb-be7d-024896e0724b/2913638/c7dcf0a6-e812-11ef-a9a0-026923c03cc9/file/2
 025-02-17 Leomas Landing Agenda.pdf
END:VEVENT
END:VCALENDAR
