BEGIN:VCALENDAR
VERSION:2.0
PRODID:SchoolNow
CALSCALE:GREGORIAN
BEGIN:VEVENT
UID:c2520b88-6975-11ef-b76a-02976be2a577
DTSTAMP:20250117T174730Z
SUMMARY:CDD Board meeting - Jan. 2025 (Canceled)
LOCATION:Holiday Inn Express North I-4 located at 4500 Lakeland Park Drive\
 , Lakeland\, Florida 33809
URL;VALUE=URI:https://www.leomascdd.org/calendar/6510249/cdd-board-meeting-
 jan-2025
DTSTART:20250120T170000Z
DTEND:20250120T180000Z
END:VEVENT
END:VCALENDAR
