BEGIN:VCALENDAR
VERSION:2.0
PRODID:SchoolNow
CALSCALE:GREGORIAN
BEGIN:VEVENT
UID:b5bdd726-6975-11ef-880e-0a58a9feac02
DTSTAMP:20241204T192556Z
SUMMARY:CDD Board meeting - Dec. 2024 (Canceled)
LOCATION:Holiday Inn Express North I-4 located at 4500 Lakeland Park Drive\
 , Lakeland\, Florida 33809
URL;VALUE=URI:https://www.leomascdd.org/calendar/6510248/cdd-board-meeting-
 dec-2024
DTSTART:20241216T170000Z
DTEND:20241216T180000Z
END:VEVENT
END:VCALENDAR
