BEGIN:VCALENDAR
VERSION:2.0
PRODID:SchoolNow
CALSCALE:GREGORIAN
BEGIN:VEVENT
UID:ad2d0370-6975-11ef-aff5-0290f6182f23
DTSTAMP:20241112T030607Z
SUMMARY:CDD Board meeting - Nov. 2024
LOCATION:Holiday Inn Express North I-4 located at 4500 Lakeland Park Drive\
 , Lakeland\, Florida 33809
URL;VALUE=URI:https://www.leomascdd.org/calendar/6510247/cdd-board-meeting-
 nov-2024
DTSTART:20241118T170000Z
DTEND:20241118T180000Z
ATTACH;FILENAME=2024-11-18 Leomas Landing Agenda.pdf;FMTTYPE=application/pd
 f:https://campussuite-storage.s3.amazonaws.com/prod/1559063/a05e60de-803b-
 11eb-be7d-024896e0724b/2878040/00389ec6-a0a3-11ef-8a62-0a58a9feac02/file/2
 024-11-18 Leomas Landing Agenda.pdf
END:VEVENT
END:VCALENDAR
